BEGIN:VCALENDAR
VERSION:2.0
PRODID:Baile da Pinha e Carnaval
X-WR-CALNAME:Baile da Pinha e Carnaval
X-WR-TIMEZONE:Europe/Lisbon
X-PUBLISHED-TTL:P1W
BEGIN:VTIMEZONE
TZID:Europe/Lisbon
X-LIC-LOCATION:Europe/Lisbon
END:VTIMEZONE
BEGIN:VEVENT
UID:69e7046fed870
DTSTART;VALUE=DATE:20260214
SEQUENCE:0
TRANSP:OPAQUE
DTEND;VALUE=DATE:20260215
SUMMARY:Baile da Pinha e Carnaval
CLASS:PUBLIC
DESCRIPTION:Baile da Pinha Sociedade União Recreativa Sobralense 
X-MICROSOFT-CDO-ALLDAYEVENT:TRUE
DTSTAMP:20260421T050031Z
END:VEVENT
END:VCALENDAR