BEGIN:VCALENDAR
VERSION:2.0
PRODID:Rastos da Serra
X-WR-CALNAME:Rastos da Serra
X-WR-TIMEZONE:Europe/Lisbon
X-PUBLISHED-TTL:P1W
BEGIN:VTIMEZONE
TZID:Europe/Lisbon
X-LIC-LOCATION:Europe/Lisbon
END:VTIMEZONE
BEGIN:VEVENT
UID:69e7138c46cf5
DTSTART;VALUE=DATE:20260228
SEQUENCE:0
TRANSP:OPAQUE
DTEND;VALUE=DATE:20260301
SUMMARY:Rastos da Serra
CLASS:PUBLIC
DESCRIPTION:\"Rastos da Serra\" é um evento que une a paixão pela caça 
 à celebração da cultura local\, da música tradicional e do convívio e
 m família. Num ambiente rural autêntico\, promove-se a caça ética e su
 stentável\, com espaço para momentos de formação\, gastronomia regiona
 l\, animação musical e atividades para os mais novos.&nbsp\;Objetivos:Va
 lorizar a caça \, a segurança e a biodiversidade. Promover convívio int
 ergeracional e familiar. Dinamizar o território rural\, os seus produtos 
 e tradições. Envolver a comunidade através da música\, gastronomia e a
 rtesanato.&nbsp\;Duração:                  Sábado 28 de fevereiro e Dom
 ingo 1 de marçoPrograma&nbsp\;Brevemente Disponível&nbsp\;
X-MICROSOFT-CDO-ALLDAYEVENT:TRUE
DTSTAMP:20260421T060500Z
END:VEVENT
END:VCALENDAR